BEGIN:VCALENDAR
VERSION:2.0
METHOD:PUBLISH
PRODID:-//Agenda.ad//NONSGML v1.0//EN
BEGIN:VEVENT
CLASS:PUBLIC
UID:ac1d569c23cfff278041366459afe694@agenda.ad
DTSTAMP:20260419T163359Z
DTSTART:20260327T230000Z
DTEND:20260327T230000Z
SUMMARY:<h1 class="documentFirstHeading">Teatre: Projecte Laramie - Cicle Cultural Encamp</h1>
<div id="viewlet-below-content-title">&nbsp;</div>
<div id="viewlet-above-content-body">&nbsp;</div>
<div id="content-core">&nbsp;</div>
DESCRIPTION:\n\nMés informació\nhttps://www.agenda.ad/activitat/encamp
 /teatre-i-dansa/teatre-projecte-laramie-cicle-cultural-encam
 p- - - \n
LOCATION:Sala de festes del Complex Esportiu i Sociocultural d'Encamp
SEQUENCE:0
TRANSP:OPAQUE
X-ALT-DESC;FMTTYPE=text/html:<!DOCTYPE HTML PUBLIC "-//W3C//DTD HTML 3.2//EN"><HTML><HEAD
 ><TITLE></TITLE></HEAD><BODY><FONT FACE="Arial" SIZE=2><br/>
 <br/><b>Més informació</b><br/><a href="https://www.agenda
 .ad/activitat/encamp/teatre-i-dansa/teatre-projecte-laramie-
 cicle-cultural-encamp- - - ">https://www.agenda.ad/activi
 tat/encamp/teatre-i-dansa/teatre-projecte-laramie-cicle-cult
 ural-encamp- - - </a><br/></FONT></BODY></HTML>
END:VEVENT
END:VCALENDAR